BEGIN:VCALENDAR
VERSION:2.0
PRODID:-//Climate Institute - ECPv6.15.20//NONSGML v1.0//EN
CALSCALE:GREGORIAN
METHOD:PUBLISH
X-ORIGINAL-URL:https://climate.org
X-WR-CALDESC:Events for Climate Institute
REFRESH-INTERVAL;VALUE=DURATION:PT1H
X-Robots-Tag:noindex
X-PUBLISHED-TTL:PT1H
BEGIN:VTIMEZONE
TZID:UTC
BEGIN:STANDARD
TZOFFSETFROM:+0000
TZOFFSETTO:+0000
TZNAME:UTC
DTSTART:20220101T000000
END:STANDARD
END:VTIMEZONE
BEGIN:VTIMEZONE
TZID:America/Toronto
BEGIN:DAYLIGHT
TZOFFSETFROM:-0500
TZOFFSETTO:-0400
TZNAME:EDT
DTSTART:20240310T070000
END:DAYLIGHT
BEGIN:STANDARD
TZOFFSETFROM:-0400
TZOFFSETTO:-0500
TZNAME:EST
DTSTART:20241103T060000
END:STANDARD
BEGIN:DAYLIGHT
TZOFFSETFROM:-0500
TZOFFSETTO:-0400
TZNAME:EDT
DTSTART:20250309T070000
END:DAYLIGHT
BEGIN:STANDARD
TZOFFSETFROM:-0400
TZOFFSETTO:-0500
TZNAME:EST
DTSTART:20251102T060000
END:STANDARD
BEGIN:DAYLIGHT
TZOFFSETFROM:-0500
TZOFFSETTO:-0400
TZNAME:EDT
DTSTART:20260308T070000
END:DAYLIGHT
BEGIN:STANDARD
TZOFFSETFROM:-0400
TZOFFSETTO:-0500
TZNAME:EST
DTSTART:20261101T060000
END:STANDARD
END:VTIMEZONE
BEGIN:VTIMEZONE
TZID:America/New_York
BEGIN:DAYLIGHT
TZOFFSETFROM:-0500
TZOFFSETTO:-0400
TZNAME:EDT
DTSTART:20230312T070000
END:DAYLIGHT
BEGIN:STANDARD
TZOFFSETFROM:-0400
TZOFFSETTO:-0500
TZNAME:EST
DTSTART:20231105T060000
END:STANDARD
BEGIN:DAYLIGHT
TZOFFSETFROM:-0500
TZOFFSETTO:-0400
TZNAME:EDT
DTSTART:20240310T070000
END:DAYLIGHT
BEGIN:STANDARD
TZOFFSETFROM:-0400
TZOFFSETTO:-0500
TZNAME:EST
DTSTART:20241103T060000
END:STANDARD
BEGIN:DAYLIGHT
TZOFFSETFROM:-0500
TZOFFSETTO:-0400
TZNAME:EDT
DTSTART:20250309T070000
END:DAYLIGHT
BEGIN:STANDARD
TZOFFSETFROM:-0400
TZOFFSETTO:-0500
TZNAME:EST
DTSTART:20251102T060000
END:STANDARD
BEGIN:DAYLIGHT
TZOFFSETFROM:-0500
TZOFFSETTO:-0400
TZNAME:EDT
DTSTART:20260308T070000
END:DAYLIGHT
BEGIN:STANDARD
TZOFFSETFROM:-0400
TZOFFSETTO:-0500
TZNAME:EST
DTSTART:20261101T060000
END:STANDARD
END:VTIMEZONE
BEGIN:VEVENT
DTSTART;TZID=UTC:20251110T080000
DTEND;TZID=UTC:20251121T170000
DTSTAMP:20260422T095459
CREATED:20250502T165606Z
LAST-MODIFIED:20250502T170522Z
UID:10000013-1762761600-1763744400@climate.org
SUMMARY:COP30
DESCRIPTION:
URL:https://climate.org/event/cop30/
ATTACH;FMTTYPE=image/png:https://climate.org/wp-content/uploads/2025/05/Screenshot-2025-05-02-at-12.52.11 PM.png
END:VEVENT
BEGIN:VEVENT
DTSTART;TZID=America/Toronto:20250925T100000
DTEND;TZID=America/Toronto:20250925T120000
DTSTAMP:20260422T095459
CREATED:20250908T150716Z
LAST-MODIFIED:20250908T152837Z
UID:10000016-1758794400-1758801600@climate.org
SUMMARY:Emerging Technologies & the Global South
DESCRIPTION:
URL:https://climate.org/event/emerging-technologies-the-global-south/
ATTACH;FMTTYPE=image/png:https://climate.org/wp-content/uploads/2025/09/Climate-Week-2025.png
END:VEVENT
BEGIN:VEVENT
DTSTART;TZID=UTC:20250921T080000
DTEND;TZID=UTC:20250928T170000
DTSTAMP:20260422T095459
CREATED:20250502T161135Z
LAST-MODIFIED:20250502T164810Z
UID:10000012-1758441600-1759078800@climate.org
SUMMARY:Climate Week NYC 2025
DESCRIPTION:
URL:https://climate.org/event/climate-week-nyc-2025/
ATTACH;FMTTYPE=image/png:https://climate.org/wp-content/uploads/2025/05/Screenshot-2025-05-02-at-12.08.44 PM.png
END:VEVENT
BEGIN:VEVENT
DTSTART;TZID=UTC:20250701T080000
DTEND;TZID=UTC:20250702T170000
DTSTAMP:20260422T095459
CREATED:20250521T202821Z
LAST-MODIFIED:20250521T203000Z
UID:10000014-1751356800-1751475600@climate.org
SUMMARY:Ancestral Wisdom Forum
DESCRIPTION:
URL:https://climate.org/event/ancestral-wisdom-forum/
ATTACH;FMTTYPE=image/png:https://climate.org/wp-content/uploads/2025/05/Ancestral-Wisdom-Forum-logo-e1747859392749.png
END:VEVENT
BEGIN:VEVENT
DTSTART;VALUE=DATE:20250414
DTEND;VALUE=DATE:20250415
DTSTAMP:20260422T095459
CREATED:20250220T184028Z
LAST-MODIFIED:20250220T184028Z
UID:10000011-1744588800-1744675199@climate.org
SUMMARY:CLEAN and ISKME Webinar with Katherine Hayhoe
DESCRIPTION:The Climate Literacy and Energy Awareness Network (CLEAN) and the Institute for the Study of Knowledge Management in Education (ISKME) are partnering to bring together climate researchers\, K-12 educators\, and climate literacy resources to build a community of leaders to collaborate in a webinar series in March and April.\n\n\n\n\n\n\n\n\n\nApril 14th: Hope and Transformative Climate Action \nFeaturing: Katherine Hayhoe\, Chief Scientist\, The Nature Conservancy
URL:https://climate.org/event/clean-and-iskme-webinar-with-katherine-hayhoe/
LOCATION:Webinar
END:VEVENT
BEGIN:VEVENT
DTSTART;VALUE=DATE:20250401
DTEND;VALUE=DATE:20250402
DTSTAMP:20260422T095459
CREATED:20250220T182816Z
LAST-MODIFIED:20250220T182816Z
UID:10000010-1743465600-1743551999@climate.org
SUMMARY:CLEAN and ISKME Webinar with Xavier Cortada and Adam Roberti
DESCRIPTION:The Climate Literacy and Energy Awareness Network (CLEAN) and the Institute for the Study of Knowledge Management in Education (ISKME) are partnering to bring together climate researchers\, K-12 educators\, and climate literacy resources to build a community of leaders to collaborate in a webinar series in March and April.\n\n\n\n\n\n\n\n\n\nApril 1st: Climate Adaptation and Mitigation\n\n\n\n\n\n\n\n\n\n\n\n\n\n\nFeaturing: Xavier Cortada\, Artist and Adam Roberti\,  Executive Director\, Cortada Foundation
URL:https://climate.org/event/clean-and-iskme-webinar-with-xavier-cortada-and-adam-roberti/
LOCATION:Webinar
END:VEVENT
BEGIN:VEVENT
DTSTART;VALUE=DATE:20250319
DTEND;VALUE=DATE:20250320
DTSTAMP:20260422T095459
CREATED:20250220T182422Z
LAST-MODIFIED:20250225T225135Z
UID:10000009-1742342400-1742428799@climate.org
SUMMARY:CLEAN and ISKME Webinar with Rajual Pandya and Mary Lou Fulton
DESCRIPTION:The Climate Literacy and Energy Awareness Network (CLEAN) and the Institute for the Study of Knowledge Management in Education (ISKME) are partnering to bring together climate researchers\, K-12 educators\, and climate literacy resources to build a community of leaders to collaborate in a webinar series in March and April.\n\n\n\n\n\n\n\n\n\nMarch 19th:  – The State of Climate Science in the United States\nFeaturing: Rajul Pandya\, Executive Director and Professor of Practice and Mary Lou Fulton College for Teaching and Learning Innovation\, Arizona State University
URL:https://climate.org/event/clean-and-iskme-webinar-with-rajual-pandya-and-mary-lou-fulton/
LOCATION:Webinar
END:VEVENT
BEGIN:VEVENT
DTSTART;VALUE=DATE:20250303
DTEND;VALUE=DATE:20250304
DTSTAMP:20260422T095459
CREATED:20250220T182147Z
LAST-MODIFIED:20250220T182147Z
UID:10000008-1740960000-1741046399@climate.org
SUMMARY:CLEAN and ISKME Webinar with Anthony Leiserowitz
DESCRIPTION:The Climate Literacy and Energy Awareness Network (CLEAN) and the Institute for the Study of Knowledge Management in Education (ISKME) are partnering to bring together climate researchers\, K-12 educators\, and climate literacy resources to build a community of leaders to collaborate in a webinar series in March and April.\n\nMarch 3rd: Where Americans are at on Climate Change \nFeaturing: Anthony Leiserowitz\, Director\, Yale Program on Climate Change Communication\n\n\n\n 
URL:https://climate.org/event/webinar_with_anthony_leiserowitz/
LOCATION:Webinar
END:VEVENT
BEGIN:VEVENT
DTSTART;TZID=America/New_York:20241119T160000
DTEND;TZID=America/New_York:20241119T173000
DTSTAMP:20260422T095459
CREATED:20241107T172536Z
LAST-MODIFIED:20241107T172826Z
UID:10000007-1732032000-1732037400@climate.org
SUMMARY:Arts & Culture in Climate Action
DESCRIPTION:The Climate Institute is pleased to co-host an official United Nations side event at COP29  in Baku\, Azerbaijan. \nAlong with our partners: Energies2050\, South-South Cooperation Council for Sustainable Development\, UNESCO Artist for Peace Cecile Alvarez and the Earthsavers Dreams Ensemble\, CCOIC and Art’s Planet — the Climate Institute announces: \nArts & Culture in Climate Action: Launching the Global Panorama Project and Arts Olympics \nThe event will explore partnerships and the role of the arts and cultural heritage in raising climate awareness\, promoting action towards SDGs\, and strengthening leadership for peace and a just transition. \nAn outcome of this event will be global arts and culture showcase and competition.
URL:https://climate.org/event/arts-culture-in-climate-action/
LOCATION:Baku Stadium\, Baku\, Azerbaijan
END:VEVENT
BEGIN:VEVENT
DTSTART;TZID=UTC:20231201T080000
DTEND;TZID=UTC:20231201T170000
DTSTAMP:20260422T095459
CREATED:20230608T144320Z
LAST-MODIFIED:20230608T144320Z
UID:10000004-1701417600-1701450000@climate.org
SUMMARY:United Nations Biodiversity Conference
DESCRIPTION:Date To be Announced
URL:https://climate.org/event/united-nations-biodiversity-conference/
END:VEVENT
BEGIN:VEVENT
DTSTART;TZID=UTC:20231106T080000
DTEND;TZID=UTC:20231117T170000
DTSTAMP:20260422T095459
CREATED:20230608T144218Z
LAST-MODIFIED:20230608T144218Z
UID:10000003-1699257600-1700240400@climate.org
SUMMARY:UN Climate Change Conference (UNFCCC COP 28)
DESCRIPTION:
URL:https://climate.org/event/un-climate-change-conference-unfccc-cop-28/
END:VEVENT
BEGIN:VEVENT
DTSTART;TZID=UTC:20231002T080000
DTEND;TZID=UTC:20231006T170000
DTSTAMP:20260422T095459
CREATED:20230608T144038Z
LAST-MODIFIED:20230608T144106Z
UID:10000002-1696233600-1696611600@climate.org
SUMMARY:Adaptation Futures
DESCRIPTION:
URL:https://climate.org/event/adaptation-futures/
END:VEVENT
BEGIN:VEVENT
DTSTART;TZID=UTC:20230922T080000
DTEND;TZID=UTC:20230924T170000
DTSTAMP:20260422T095459
CREATED:20230608T143948Z
LAST-MODIFIED:20230608T143948Z
UID:10000001-1695369600-1695574800@climate.org
SUMMARY:Summit of the Future
DESCRIPTION:
URL:https://climate.org/event/summit-of-the-future/
END:VEVENT
BEGIN:VEVENT
DTSTART;TZID=UTC:20230917T080000
DTEND;TZID=UTC:20230924T170000
DTSTAMP:20260422T095459
CREATED:20230608T144451Z
LAST-MODIFIED:20230608T144629Z
UID:10000005-1694937600-1695574800@climate.org
SUMMARY:Climate Week NYC 2023
DESCRIPTION:
URL:https://climate.org/event/climate-week-nyc-2023/
END:VEVENT
END:VCALENDAR